BEGIN:VCALENDAR
PRODID:-//github.com/rianjs/ical.net//NONSGML ical.net 4.0//EN
VERSION:2.0
BEGIN:VEVENT
DESCRIPTION:Foreldremøte Vg2
DTEND:20211028T200000
DTSTAMP:20260423T234114Z
DTSTART:20211028T180000
SEQUENCE:0
SUMMARY:Foreldremøte Vg2
UID:e00058c8-d174-4e35-bced-415f59fdf133
END:VEVENT
END:VCALENDAR
